BEGIN:VCALENDAR
VERSION:2.0
PRODID:-//Northern Michigan Woman  - ECPv6.15.20//NONSGML v1.0//EN
CALSCALE:GREGORIAN
METHOD:PUBLISH
X-ORIGINAL-URL:https://www.northernmichiganwoman.com
X-WR-CALDESC:Events for Northern Michigan Woman 
REFRESH-INTERVAL;VALUE=DURATION:PT1H
X-Robots-Tag:noindex
X-PUBLISHED-TTL:PT1H
BEGIN:VTIMEZONE
TZID:America/Halifax
BEGIN:DAYLIGHT
TZOFFSETFROM:-0400
TZOFFSETTO:-0300
TZNAME:ADT
DTSTART:20210314T060000
END:DAYLIGHT
BEGIN:STANDARD
TZOFFSETFROM:-0300
TZOFFSETTO:-0400
TZNAME:AST
DTSTART:20211107T050000
END:STANDARD
BEGIN:DAYLIGHT
TZOFFSETFROM:-0400
TZOFFSETTO:-0300
TZNAME:ADT
DTSTART:20220313T060000
END:DAYLIGHT
BEGIN:STANDARD
TZOFFSETFROM:-0300
TZOFFSETTO:-0400
TZNAME:AST
DTSTART:20221106T050000
END:STANDARD
BEGIN:DAYLIGHT
TZOFFSETFROM:-0400
TZOFFSETTO:-0300
TZNAME:ADT
DTSTART:20230312T060000
END:DAYLIGHT
BEGIN:STANDARD
TZOFFSETFROM:-0300
TZOFFSETTO:-0400
TZNAME:AST
DTSTART:20231105T050000
END:STANDARD
END:VTIMEZONE
BEGIN:VEVENT
DTSTART;TZID=America/Halifax:20221013T133000
DTEND;TZID=America/Halifax:20221013T153000
DTSTAMP:20260420T053634
CREATED:20220825T082625Z
LAST-MODIFIED:20220920T190223Z
UID:10000016-1665667800-1665675000@www.northernmichiganwoman.com
SUMMARY:NoMiWoman Connections Series for Women
DESCRIPTION:Northern Michigan Woman Magazine Events are BACK to in-person. Join us Thursday\, Oct. 13th from 5:30pm-7:30pm at the brand new Flat Cap Ventures Building! Through innovation\, resourcefulness and boundless energy\, the same people who bring this community SwingShift and the Stars\, now offer a new event venue and we can’t wait to check it out! Enjoy beverages from Soul Squeeze Cellars and appetizers and hear from a local woman business owner:  \n\n\n\n \n\n\n\n\nBuy Tickets\n\n\n\n\n\nWe will hear from Judy Harrison as she shares her insight of being a business owner and the impact her and her team have had on our community!  \n\n\n\n\nPurchase your ticket today – limited capacity! $18/ticket or 2 for $30! It’s time to make CONNECTIONS AGAIN! \n\n\n\nEvent is located at Flat Cap Ventures\, 476 US-31 South\, Traverse City\, Michigan 49685 –  Near Chum’s Corners\, by the baseball stadium. \n\n\n\nThis event is sponsored by our Corporate Sponsor Lake Michigan Credit Union. In addition\, Supporting Sponsors include Monarch Home Health Services\, Pine Rest Christian Mental Health Services\, Lite 96FM\, 106.7 STAR Country and 9 &10 News. Thank you to our sponsors for supporting women in business! \n\n\n\n\n\n\n\n\n\n\n\n\n\n\n	Related
URL:https://www.northernmichiganwoman.com/event/oct-nomiwoman-connections-series-networking-for-women/
LOCATION:Flat Cap Ventures\, 476 US-31\, Traverse City\, Michigan\, 49685
END:VEVENT
END:VCALENDAR