BEGIN:VCALENDAR
VERSION:2.0
PRODID:-//Northern Michigan Woman  - ECPv6.15.20//NONSGML v1.0//EN
CALSCALE:GREGORIAN
METHOD:PUBLISH
X-ORIGINAL-URL:https://www.northernmichiganwoman.com
X-WR-CALDESC:Events for Northern Michigan Woman 
REFRESH-INTERVAL;VALUE=DURATION:PT1H
X-Robots-Tag:noindex
X-PUBLISHED-TTL:PT1H
BEGIN:VTIMEZONE
TZID:America/Halifax
BEGIN:DAYLIGHT
TZOFFSETFROM:-0400
TZOFFSETTO:-0300
TZNAME:ADT
DTSTART:20220313T060000
END:DAYLIGHT
BEGIN:STANDARD
TZOFFSETFROM:-0300
TZOFFSETTO:-0400
TZNAME:AST
DTSTART:20221106T050000
END:STANDARD
BEGIN:DAYLIGHT
TZOFFSETFROM:-0400
TZOFFSETTO:-0300
TZNAME:ADT
DTSTART:20230312T060000
END:DAYLIGHT
BEGIN:STANDARD
TZOFFSETFROM:-0300
TZOFFSETTO:-0400
TZNAME:AST
DTSTART:20231105T050000
END:STANDARD
BEGIN:DAYLIGHT
TZOFFSETFROM:-0400
TZOFFSETTO:-0300
TZNAME:ADT
DTSTART:20240310T060000
END:DAYLIGHT
BEGIN:STANDARD
TZOFFSETFROM:-0300
TZOFFSETTO:-0400
TZNAME:AST
DTSTART:20241103T050000
END:STANDARD
END:VTIMEZONE
BEGIN:VEVENT
DTSTART;TZID=America/Halifax:20230517T133000
DTEND;TZID=America/Halifax:20230517T153000
DTSTAMP:20260419T072919
CREATED:20230130T035953Z
LAST-MODIFIED:20230419T030337Z
UID:10000021-1684330200-1684337400@www.northernmichiganwoman.com
SUMMARY:May 17th NoMiWoman Connections Event
DESCRIPTION:Buy Tickets Here!\n\n\n\n\nJoin Northern Michigan Woman Magazine for our Women’s Networking Event on Wednesday\, May 17th from 5:30-7:30pm at French Valley Vineyard! \n\n\n\nJoin us for an evening of networking with area women! French Valley Vineyard is home to 70 beautiful acres in the heart of Leelanau County. Join us for an evening of wine tasting\, charcuterie boards\, plus enjoy complimentary chair massages from Elemental Compass! \n\n\n\n\nSpeaker: Kat Palms of Leelanau Wellness Collective \n\n\n\n \n\n\n\nHear Kat share her journey and the truths and misconceptions she has learned behind the statement: “If you love what you do you will never work a day in your life.” \n\n\n\nKatherine Palms is the Operations Manager of the MI Farm Co-Op and the Director of the Leelanau Wellness Collective. She is the Author of a Face Yoga Guide\, and creator of the first wellness weekend retreats in Leelanau County. Katherine leads a variety of wellness classes. She also loves to team up with local entrepreneurs to promote healthy lifestyles and resilient communities. \n\n\n\n\n \n\n\n\nThis event is sponsored by Monarch Home Health Services\, Pine Rest Christian Mental Health Services\, Lake Michigan Credit Union\, Lite 96.3\, STAR Country 106.7\, Elemental Compass\, SCORE Traverse City and Rachel Straughen Photography.  Thank you to our sponsors for supporting women in business! \n\n\n\nPurchase your ticket today – limited capacity! $18/ticket or 2 for $30! Includes wine tasting & appetizers. \n\n\n\n\n\n\n\n\n\n\n\n\n	Related
URL:https://www.northernmichiganwoman.com/event/may-17th-nomiwoman-connections-event/
LOCATION:French Valley Vineyard\, 3655 SOUTH FRENCH ROAD\, Cedar\, Michigan\, 49621\, United States
ORGANIZER;CN="Northern Michigan Woman Magazine":MAILTO:kerry@northernmichiganwoman.com
END:VEVENT
END:VCALENDAR